BEGIN:VCALENDAR
VERSION:2.0
PRODID:-//Tukios.com/
BEGIN:VEVENT
UID:c6734901-93aa-4815-b32c-2682944571be@www.edwardsfh.net
DTSTAMP:20260423T234145Z
DTSTART:20260511T190000Z
DTEND:20260511T200000Z
SUMMARY:Graveside Service
DESCRIPTION:
URL:https://www.edwardsfh.net/obituaries/ssgt-paul-gregg
LOCATION: 950 E CR 200 N  Arcola IL 61910
GEO:39.6818197;-88.2861897
END:VEVENT
END:VCALENDAR