BEGIN:VCALENDAR
VERSION:2.0
PRODID:-//Tukios.com/
BEGIN:VEVENT
UID:27848f0d-846d-4d1a-b901-f53b2b2710f1@www.edwardsfh.net
DTSTAMP:20260424T004716Z
DTSTART:20260501T160000Z
DTEND:20260501T170000Z
SUMMARY:Graveside Service
DESCRIPTION:
URL:https://www.edwardsfh.net/obituaries/clara-miller
LOCATION: East Park Street  Arthur IL 61911
GEO:39.7146103;-88.467454
END:VEVENT
END:VCALENDAR